BEGIN:VCALENDAR
PRODID:-//Riksbanken//riksbanken.se//SV
VERSION:2.0
BEGIN:VEVENT
DTSTART:20150317T120000Z
DTSTAMP:20260419T233602Z
UID:fff58738e0ac456f8e861722010a8d6f
CREATED:20260419T233602Z
DESCRIPTION:Fiscal Policy in an Unemployment Crisis
LAST-MODIFIED:20260419T233602Z
LOCATION:
SEQUENCE:0
STATUS:CONFIRMED
SUMMARY:Pontus Rendahl, Cambridge University
TRANSP:OPAQUE
END:VEVENT
END:VCALENDAR
