BEGIN:VCALENDAR
PRODID:-//Riksbanken//riksbanken.se//SV
VERSION:2.0
BEGIN:VEVENT
DTSTART:20150318T120000Z
DTSTAMP:20260419T233720Z
UID:db1f94596d9041d5b980075dd8465513
CREATED:20260419T233720Z
DESCRIPTION:Moving House
LAST-MODIFIED:20260419T233720Z
LOCATION:
SEQUENCE:0
STATUS:CONFIRMED
SUMMARY:Rachel Ngai, London School of Economics
TRANSP:OPAQUE
END:VEVENT
END:VCALENDAR
