BEGIN:VCALENDAR
PRODID:-//Riksbanken//riksbanken.se//SV
VERSION:2.0
BEGIN:VEVENT
DTSTART:20150324T120000Z
DTSTAMP:20260419T233439Z
UID:c3171f9537dd4233a0dd41f4d40e3a0e
CREATED:20260419T233439Z
DESCRIPTION:On the Importance of Sales for Aggregate Price Flexibility
LAST-MODIFIED:20260419T233439Z
LOCATION:
SEQUENCE:0
STATUS:CONFIRMED
SUMMARY:Nicolas Vincent, HEC Montreal
TRANSP:OPAQUE
END:VEVENT
END:VCALENDAR
