BEGIN:VCALENDAR
PRODID:-//Riksbanken//riksbanken.se//SV
VERSION:2.0
BEGIN:VEVENT
DTSTART:20150331T110000Z
DTSTAMP:20260419T233525Z
UID:d520d4a7536d4118ba38df7ac77ce9c0
CREATED:20260419T233525Z
DESCRIPTION:"Since you're so rich, you must be really smart":Talent and the finance wage premium
LAST-MODIFIED:20260419T233525Z
LOCATION:
SEQUENCE:0
STATUS:CONFIRMED
SUMMARY:Per Strömberg, Stockholm School of Economics
TRANSP:OPAQUE
END:VEVENT
END:VCALENDAR
