BEGIN:VCALENDAR
PRODID:-//Riksbanken//riksbanken.se//SV
VERSION:2.0
BEGIN:VEVENT
DTSTART:20150408T110000Z
DTSTAMP:20260419T232846Z
UID:e2f7904e4da749a5997c0a72be34418f
CREATED:20260419T232846Z
DESCRIPTION:Monetary policy when households have debt: new evidence on the transmission mechanism
LAST-MODIFIED:20260419T232846Z
LOCATION:
SEQUENCE:0
STATUS:CONFIRMED
SUMMARY:Clodomiro Ferreira, London Business School Barcelona
TRANSP:OPAQUE
END:VEVENT
END:VCALENDAR
