BEGIN:VCALENDAR
PRODID:-//Riksbanken//riksbanken.se//SV
VERSION:2.0
BEGIN:VEVENT
DTSTART:20150414T110000Z
DTSTAMP:20260419T233105Z
UID:c33b197b44894501bbbb45444009197f
CREATED:20260419T233105Z
DESCRIPTION:YOLO: Can Subjective Life-Expectancies Explain Household Investment Puzzles?
LAST-MODIFIED:20260419T233105Z
LOCATION:
SEQUENCE:0
STATUS:CONFIRMED
SUMMARY:Raphael Schoenle, Brandeis University
TRANSP:OPAQUE
END:VEVENT
END:VCALENDAR
