BEGIN:VCALENDAR
PRODID:-//Riksbanken//riksbanken.se//SV
VERSION:2.0
BEGIN:VEVENT
DTSTART:20150420T110000Z
DTSTAMP:20260419T232939Z
UID:744cf4ccc58e4ae1b1e1557c003a4137
CREATED:20260419T232939Z
DESCRIPTION:Cross-Country Co-movement in Long-Term Interest Rates: A DSGE Approach
LAST-MODIFIED:20260419T232939Z
LOCATION:
SEQUENCE:0
STATUS:CONFIRMED
SUMMARY:Kostantinos Theodoridis, Bank of England
TRANSP:OPAQUE
END:VEVENT
END:VCALENDAR
