BEGIN:VCALENDAR
PRODID:-//Riksbanken//riksbanken.se//SV
VERSION:2.0
BEGIN:VEVENT
DTSTART:20150428T110000Z
DTSTAMP:20260419T233026Z
UID:ae80a8dbfd3f4c86b174c6f65afc17bf
CREATED:20260419T233026Z
DESCRIPTION:TBA
LAST-MODIFIED:20260419T233026Z
LOCATION:
SEQUENCE:0
STATUS:CONFIRMED
SUMMARY:Kristoffer Nimark, Cornell University
TRANSP:OPAQUE
END:VEVENT
END:VCALENDAR
