BEGIN:VCALENDAR
PRODID:-//Riksbanken//riksbanken.se//SV
VERSION:2.0
BEGIN:VEVENT
DTSTART:20150507T110000Z
DTSTAMP:20260419T224029Z
UID:56a73230606d4f8aafc9a26d4c9d49fa
CREATED:20260419T224029Z
DESCRIPTION:TBA
LAST-MODIFIED:20260419T224029Z
LOCATION:
SEQUENCE:0
STATUS:CONFIRMED
SUMMARY:Daniela Puzzello, Indiana University
TRANSP:OPAQUE
END:VEVENT
END:VCALENDAR
