BEGIN:VCALENDAR
PRODID:-//Riksbanken//riksbanken.se//SV
VERSION:2.0
BEGIN:VEVENT
DTSTART:20150511T090000Z
DTSTAMP:20260419T224115Z
UID:98b6b01af592474786a7054a67661554
CREATED:20260419T224115Z
DESCRIPTION:Resurrecting the Role of the Product Market Wedge in Recessions
LAST-MODIFIED:20260419T224115Z
LOCATION:
SEQUENCE:0
STATUS:CONFIRMED
SUMMARY:Peter Klenow, Stanford University
TRANSP:OPAQUE
END:VEVENT
END:VCALENDAR
