BEGIN:VCALENDAR
PRODID:-//Riksbanken//riksbanken.se//SV
VERSION:2.0
BEGIN:VEVENT
DTSTART:20150519T110000Z
DTSTAMP:20260419T224035Z
UID:e59ce6c2f18547e3b3a6ed38c7c8281e
CREATED:20260419T224035Z
DESCRIPTION:Real Rigidity, Nominal Rigidity, and the Social Value of Information
LAST-MODIFIED:20260419T224035Z
LOCATION:
SEQUENCE:0
STATUS:CONFIRMED
SUMMARY:Jennifer La'o, Columbia University
TRANSP:OPAQUE
END:VEVENT
END:VCALENDAR
