BEGIN:VCALENDAR
PRODID:-//Riksbanken//riksbanken.se//SV
VERSION:2.0
BEGIN:VEVENT
DTSTART:20150521T110000Z
DTSTAMP:20260419T233310Z
UID:1e1318240bd945158cb77f1b5ad3c563
CREATED:20260419T233310Z
DESCRIPTION:Breaking Through the Zero Lower Bound
LAST-MODIFIED:20260419T233310Z
LOCATION:
SEQUENCE:0
STATUS:CONFIRMED
SUMMARY:Miles Kimball, University of Michigan
TRANSP:OPAQUE
END:VEVENT
END:VCALENDAR
