BEGIN:VCALENDAR
PRODID:-//Riksbanken//riksbanken.se//SV
VERSION:2.0
BEGIN:VEVENT
DTSTART:20150526T110000Z
DTSTAMP:20260419T224235Z
UID:63a8921dba5c4528b44e5b58cb425413
CREATED:20260419T224235Z
DESCRIPTION:Credit supply and the housing boom
LAST-MODIFIED:20260419T224235Z
LOCATION:
SEQUENCE:0
STATUS:CONFIRMED
SUMMARY:Alejandro Justiniano, Federal Reserve Bank of Chicago
TRANSP:OPAQUE
END:VEVENT
END:VCALENDAR
