BEGIN:VCALENDAR
PRODID:-//Riksbanken//riksbanken.se//SV
VERSION:2.0
BEGIN:VEVENT
DTSTART:20150528T110000Z
DTSTAMP:20260419T224133Z
UID:9bc5ce69615a4b078d88ddd2b1b505cf
CREATED:20260419T224133Z
DESCRIPTION:The Financial Soundness of US Firms, 1926-2012
LAST-MODIFIED:20260419T224133Z
LOCATION:
SEQUENCE:0
STATUS:CONFIRMED
SUMMARY:Andrea Eisfeldt, UCLA
TRANSP:OPAQUE
END:VEVENT
END:VCALENDAR
