BEGIN:VCALENDAR
PRODID:-//Riksbanken//riksbanken.se//SV
VERSION:2.0
BEGIN:VEVENT
DTSTART:20150529T090000Z
DTSTAMP:20260419T223906Z
UID:df876ba95f2c450d9f2082793204511a
CREATED:20260419T223906Z
DESCRIPTION:Banking, Liquidity and Bank Runs in an Infinite Horizon Economy
LAST-MODIFIED:20260419T223906Z
LOCATION:
SEQUENCE:0
STATUS:CONFIRMED
SUMMARY:Mark Gertler, New York University
TRANSP:OPAQUE
END:VEVENT
END:VCALENDAR
