BEGIN:VCALENDAR
PRODID:-//Riksbanken//riksbanken.se//SV
VERSION:2.0
BEGIN:VEVENT
DTSTART:20150608T120000Z
DTSTAMP:20260419T223818Z
UID:433c5042fe464d848ab55008b81dd514
CREATED:20260419T223818Z
DESCRIPTION:Misthinking Globalisation and what it means for central banks
LAST-MODIFIED:20260419T223818Z
LOCATION:
SEQUENCE:0
STATUS:CONFIRMED
SUMMARY:Richard Baldwin, Graduate Institute, CEPR
TRANSP:OPAQUE
END:VEVENT
END:VCALENDAR
