BEGIN:VCALENDAR
PRODID:-//Riksbanken//riksbanken.se//SV
VERSION:2.0
BEGIN:VEVENT
DTSTART:20150609T110000Z
DTSTAMP:20260419T224241Z
UID:9ed39a7088cd49049ecf756175a03c63
CREATED:20260419T224241Z
DESCRIPTION:TBA
LAST-MODIFIED:20260419T224241Z
LOCATION:
SEQUENCE:0
STATUS:CONFIRMED
SUMMARY:Nicholas Bloom, Stanford University
TRANSP:OPAQUE
END:VEVENT
END:VCALENDAR
