BEGIN:VCALENDAR
PRODID:-//Riksbanken//riksbanken.se//SV
VERSION:2.0
BEGIN:VEVENT
DTSTART:20150616T110000Z
DTSTAMP:20260419T223943Z
UID:e69818773f1046959f75ac58f9aa3fd1
CREATED:20260419T223943Z
DESCRIPTION:Information, Misallocation and Aggregate Productivity
LAST-MODIFIED:20260419T223943Z
LOCATION:
SEQUENCE:0
STATUS:CONFIRMED
SUMMARY:Hugo Hopenhayn, UCLA
TRANSP:OPAQUE
END:VEVENT
END:VCALENDAR
