BEGIN:VCALENDAR
PRODID:-//Riksbanken//riksbanken.se//SV
VERSION:2.0
BEGIN:VEVENT
DTSTART:20150623T110000Z
DTSTAMP:20260419T223948Z
UID:618972b6fe5d44948d8f82e2506b48c9
CREATED:20260419T223948Z
DESCRIPTION:TBA
LAST-MODIFIED:20260419T223948Z
LOCATION:
SEQUENCE:0
STATUS:CONFIRMED
SUMMARY:Emilia Garcia, University of St. Gallen
TRANSP:OPAQUE
END:VEVENT
END:VCALENDAR
