BEGIN:VCALENDAR
PRODID:-//Riksbanken//riksbanken.se//SV
VERSION:2.0
BEGIN:VEVENT
DTSTART:20150831T110000Z
DTSTAMP:20260419T185322Z
UID:00b9715865354583bc188326d117a7bf
CREATED:20260419T185322Z
DESCRIPTION:Global Inflation Dynamics in the Post-Crisis Period: What Explains the Twin Puzzle?
LAST-MODIFIED:20260419T185322Z
LOCATION:
SEQUENCE:0
STATUS:CONFIRMED
SUMMARY:Christian Friedrich, Bank of Canada
TRANSP:OPAQUE
END:VEVENT
END:VCALENDAR
