BEGIN:VCALENDAR
PRODID:-//Riksbanken//riksbanken.se//SV
VERSION:2.0
BEGIN:VEVENT
DTSTART:20150902T080000Z
DTSTAMP:20260419T233536Z
UID:9fd2205480a94530b662e9492fcc13cd
CREATED:20260419T233536Z
DESCRIPTION:Explaining Cross-Cohort Differences in Life Cycle Earnings
LAST-MODIFIED:20260419T233536Z
LOCATION:
SEQUENCE:0
STATUS:CONFIRMED
SUMMARY:B Ravikumar, Federal Reserve Bank of St Louis and Arizona State University
TRANSP:OPAQUE
END:VEVENT
END:VCALENDAR
