BEGIN:VCALENDAR
PRODID:-//Riksbanken//riksbanken.se//SV
VERSION:2.0
BEGIN:VEVENT
DTSTART:20150907T110000Z
DTSTAMP:20260419T233815Z
UID:ced669bc3e684cc391c39884fd1eac1f
CREATED:20260419T233815Z
DESCRIPTION:The Economic Consequences of Disinflation
LAST-MODIFIED:20260419T233815Z
LOCATION:
SEQUENCE:0
STATUS:CONFIRMED
SUMMARY:Mathias Trabandt, Freie University
TRANSP:OPAQUE
END:VEVENT
END:VCALENDAR
