BEGIN:VCALENDAR
PRODID:-//Riksbanken//riksbanken.se//SV
VERSION:2.0
BEGIN:VEVENT
DTSTART:20150908T110000Z
DTSTAMP:20260419T233728Z
UID:f64a0fa0b5854095bfcdfecd52d8a576
CREATED:20260419T233728Z
DESCRIPTION:"Inflation Targeting Does Not Anchor Inflation Expectations Evidence from Firms in New Zealand"
LAST-MODIFIED:20260419T233728Z
LOCATION:
SEQUENCE:0
STATUS:CONFIRMED
SUMMARY:Olivier Coibion, UT, Austin
TRANSP:OPAQUE
END:VEVENT
END:VCALENDAR
