BEGIN:VCALENDAR
PRODID:-//Riksbanken//riksbanken.se//SV
VERSION:2.0
BEGIN:VEVENT
DTSTART:20150916T110000Z
DTSTAMP:20260423T170214Z
UID:5b1e92033cae4ecdbd98ddc06f77d8c1
CREATED:20260423T170214Z
DESCRIPTION:How Much of Bank Credit Risk is Sovereign Risk? Evidence from the Eurozone
LAST-MODIFIED:20260423T170214Z
LOCATION:
SEQUENCE:0
STATUS:CONFIRMED
SUMMARY:Junye Li, ESSEC
TRANSP:OPAQUE
END:VEVENT
END:VCALENDAR
