BEGIN:VCALENDAR
PRODID:-//Riksbanken//riksbanken.se//SV
VERSION:2.0
BEGIN:VEVENT
DTSTART:20150922T110000Z
DTSTAMP:20260419T233918Z
UID:99d865e5d09448afa20401ff05fe65ca
CREATED:20260419T233918Z
DESCRIPTION:Supervisory Incentives in a Banking Union
LAST-MODIFIED:20260419T233918Z
LOCATION:
SEQUENCE:0
STATUS:CONFIRMED
SUMMARY:Robert S Marquez, UC Davis
TRANSP:OPAQUE
END:VEVENT
END:VCALENDAR
