BEGIN:VCALENDAR
PRODID:-//Riksbanken//riksbanken.se//SV
VERSION:2.0
BEGIN:VEVENT
DTSTART:20150929T110000Z
DTSTAMP:20260419T233907Z
UID:17540d0dd0724867b85fae921c4b482a
CREATED:20260419T233907Z
DESCRIPTION:Non-rating revenue and conflicts of interest
LAST-MODIFIED:20260419T233907Z
LOCATION:
SEQUENCE:0
STATUS:CONFIRMED
SUMMARY:Bo Becker, SSE
TRANSP:OPAQUE
END:VEVENT
END:VCALENDAR
