BEGIN:VCALENDAR
PRODID:-//Riksbanken//riksbanken.se//SV
VERSION:2.0
BEGIN:VEVENT
DTSTART:20151006T110000Z
DTSTAMP:20260419T185429Z
UID:9ebce16ba4c048cb9d7bea77312e3a4e
CREATED:20260419T185429Z
DESCRIPTION:A Narrative Approach to a Fiscal DSGE Model
LAST-MODIFIED:20260419T185429Z
LOCATION:
SEQUENCE:0
STATUS:CONFIRMED
SUMMARY:Thorsten Drautzburg, Federal Reserve Bank of Philadelphia
TRANSP:OPAQUE
END:VEVENT
END:VCALENDAR
