BEGIN:VCALENDAR
PRODID:-//Riksbanken//riksbanken.se//SV
VERSION:2.0
BEGIN:VEVENT
DTSTART:20151008T110000Z
DTSTAMP:20260419T185840Z
UID:b6ffdad1f9de407e8892ab0f3a7fbd33
CREATED:20260419T185840Z
DESCRIPTION:Do Firms Engage in Risk-Shifting? Empirical Evidence
LAST-MODIFIED:20260419T185840Z
LOCATION:
SEQUENCE:0
STATUS:CONFIRMED
SUMMARY:Erik Gilje,	Wharton
TRANSP:OPAQUE
END:VEVENT
END:VCALENDAR
