BEGIN:VCALENDAR
PRODID:-//Riksbanken//riksbanken.se//SV
VERSION:2.0
BEGIN:VEVENT
DTSTART:20151014T110000Z
DTSTAMP:20260419T185247Z
UID:8d9445a776a34e8cafe6fd7b2f115466
CREATED:20260419T185247Z
DESCRIPTION:Credit Information Sharing and Liquidity risk
LAST-MODIFIED:20260419T185247Z
LOCATION:
SEQUENCE:0
STATUS:CONFIRMED
SUMMARY:Fabio Castiglionesi, Tilburg
TRANSP:OPAQUE
END:VEVENT
END:VCALENDAR
