BEGIN:VCALENDAR
PRODID:-//Riksbanken//riksbanken.se//SV
VERSION:2.0
BEGIN:VEVENT
DTSTART:20151020T110000Z
DTSTAMP:20260419T185430Z
UID:8c78bb4107d14f2d8adde6e89628b7ae
CREATED:20260419T185430Z
DESCRIPTION:The Labor Market Effects of Credit Market Information
LAST-MODIFIED:20260419T185430Z
LOCATION:
SEQUENCE:0
STATUS:CONFIRMED
SUMMARY:Marieke Bos, SOFI
TRANSP:OPAQUE
END:VEVENT
END:VCALENDAR
