BEGIN:VCALENDAR
PRODID:-//Riksbanken//riksbanken.se//SV
VERSION:2.0
BEGIN:VEVENT
DTSTART:20151022T110000Z
DTSTAMP:20260419T185743Z
UID:ed8b8898e420431ea484a85727d31b03
CREATED:20260419T185743Z
DESCRIPTION:Self-Oriented Monetary Policy, Global Financial Markets and Excess Volatility of International Capital Flows
LAST-MODIFIED:20260419T185743Z
LOCATION:
SEQUENCE:0
STATUS:CONFIRMED
SUMMARY:Giovanni Lombardo, BIS
TRANSP:OPAQUE
END:VEVENT
END:VCALENDAR
