BEGIN:VCALENDAR
PRODID:-//Riksbanken//riksbanken.se//SV
VERSION:2.0
BEGIN:VEVENT
DTSTART:20151027T120000Z
DTSTAMP:20260419T185441Z
UID:6ad6b40cce9d4dcfbed94b44060b4e80
CREATED:20260419T185441Z
DESCRIPTION:Global or domestic? Which shocks drive in inflation in European small open economies?
LAST-MODIFIED:20260419T185441Z
LOCATION:
SEQUENCE:0
STATUS:CONFIRMED
SUMMARY:Jacek Kotłowski and Aleksandra Halka,	National Bank of Poland
TRANSP:OPAQUE
END:VEVENT
END:VCALENDAR
