BEGIN:VCALENDAR
PRODID:-//Riksbanken//riksbanken.se//SV
VERSION:2.0
BEGIN:VEVENT
DTSTART:20151103T120000Z
DTSTAMP:20260419T225041Z
UID:00a7902f025e4eaf84aede9dbd1de3f6
CREATED:20260419T225041Z
DESCRIPTION:Universal vs separated banking with deposit insurance in a macro model
LAST-MODIFIED:20260419T225041Z
LOCATION:
SEQUENCE:0
STATUS:CONFIRMED
SUMMARY:Tatiana Damjanovic,	Durham 
TRANSP:OPAQUE
END:VEVENT
END:VCALENDAR
