BEGIN:VCALENDAR
PRODID:-//Riksbanken//riksbanken.se//SV
VERSION:2.0
BEGIN:VEVENT
DTSTART:20151106T100000Z
DTSTAMP:20260419T233335Z
UID:deb9dc769cf949e194b2b2ac30f38ceb
CREATED:20260419T233335Z
DESCRIPTION:TBA
LAST-MODIFIED:20260419T233335Z
LOCATION:
SEQUENCE:0
STATUS:CONFIRMED
SUMMARY:Claudio Michelacci, CEMFI
TRANSP:OPAQUE
END:VEVENT
END:VCALENDAR
