BEGIN:VCALENDAR
PRODID:-//Riksbanken//riksbanken.se//SV
VERSION:2.0
BEGIN:VEVENT
DTSTART:20151110T140000Z
DTSTAMP:20260419T225153Z
UID:be51ccfc99f4459a938beba0e5ff8fa7
CREATED:20260419T225153Z
DESCRIPTION:Revisiting the Growth of Mortgage Debt in the Boom
LAST-MODIFIED:20260419T225153Z
LOCATION:
SEQUENCE:0
STATUS:CONFIRMED
SUMMARY:Paul Willen, Boston Fed
TRANSP:OPAQUE
END:VEVENT
END:VCALENDAR
