BEGIN:VCALENDAR
PRODID:-//Riksbanken//riksbanken.se//SV
VERSION:2.0
BEGIN:VEVENT
DTSTART:20151117T120000Z
DTSTAMP:20260419T225353Z
UID:528e5b67e328422d918ad5ed5408c58b
CREATED:20260419T225353Z
DESCRIPTION:Financial Frictions, Foreign Currency Borrowing, and Systemic Risk
LAST-MODIFIED:20260419T225353Z
LOCATION:
SEQUENCE:0
STATUS:CONFIRMED
SUMMARY:Giovanni Dell'Ariccia, IMF
TRANSP:OPAQUE
END:VEVENT
END:VCALENDAR
