BEGIN:VCALENDAR
PRODID:-//Riksbanken//riksbanken.se//SV
VERSION:2.0
BEGIN:VEVENT
DTSTART:20151124T120000Z
DTSTAMP:20260419T225347Z
UID:f7353824fbc9484696a7ccfdaa3e5b03
CREATED:20260419T225347Z
DESCRIPTION:Bilateral Linkages and the International Transmission of Business Cycles
LAST-MODIFIED:20260419T225347Z
LOCATION:
SEQUENCE:0
STATUS:CONFIRMED
SUMMARY:Lance Kent, College of William and Mary
TRANSP:OPAQUE
END:VEVENT
END:VCALENDAR
