BEGIN:VCALENDAR
PRODID:-//Riksbanken//riksbanken.se//SV
VERSION:2.0
BEGIN:VEVENT
DTSTART:20151126T120000Z
DTSTAMP:20260419T225538Z
UID:6d6581daf926469ab4054eec6591564e
CREATED:20260419T225538Z
DESCRIPTION:Beggar-thy-neighbor? The international effects of ECB unconventional monetary policy measures
LAST-MODIFIED:20260419T225538Z
LOCATION:
SEQUENCE:0
STATUS:CONFIRMED
SUMMARY:Fabio Canova, EUI
TRANSP:OPAQUE
END:VEVENT
END:VCALENDAR
