BEGIN:VCALENDAR
PRODID:-//Riksbanken//riksbanken.se//SV
VERSION:2.0
BEGIN:VEVENT
DTSTART:20151127T130000Z
DTSTAMP:20260419T225836Z
UID:b7d1733f2dfc4298a1e7edb20ff6f2ac
CREATED:20260419T225836Z
DESCRIPTION:Jordi Gali, CREI and UPF
Insider-Outsider Labor Markets, Hysteresis and Monetary Policy
LAST-MODIFIED:20260419T225836Z
LOCATION:
SEQUENCE:0
STATUS:CONFIRMED
SUMMARY:Jordi Gali, CREI and UPF
TRANSP:OPAQUE
END:VEVENT
END:VCALENDAR
