BEGIN:VCALENDAR
PRODID:-//Riksbanken//riksbanken.se//SV
VERSION:2.0
BEGIN:VEVENT
DTSTART:20151208T120000Z
DTSTAMP:20260419T233336Z
UID:74e970ce0c944757958e61040fddeaf2
CREATED:20260419T233336Z
DESCRIPTION:Liquidity regulation and the implementation of monetary policy
LAST-MODIFIED:20260419T233336Z
LOCATION:
SEQUENCE:0
STATUS:CONFIRMED
SUMMARY:Todd Keister, Rutgers University
TRANSP:OPAQUE
END:VEVENT
END:VCALENDAR
