BEGIN:VCALENDAR
PRODID:-//Riksbanken//riksbanken.se//SV
VERSION:2.0
BEGIN:VEVENT
DTSTART:20151215T120000Z
DTSTAMP:20260419T233839Z
UID:1645c3dcd57b43209b5d9fed9f196a93
CREATED:20260419T233839Z
DESCRIPTION:Precommitments for Financial Self-Control? Micro Evidence from the 2003 Korean Credit Crisis
LAST-MODIFIED:20260419T233839Z
LOCATION:
SEQUENCE:0
STATUS:CONFIRMED
SUMMARY:John Rust, Georgetown University
TRANSP:OPAQUE
END:VEVENT
END:VCALENDAR
