BEGIN:VCALENDAR
PRODID:-//Riksbanken//riksbanken.se//SV
VERSION:2.0
BEGIN:VEVENT
DTSTART:20160112T120000Z
DTSTAMP:20260423T171751Z
UID:fe774fc2923b4a1fb153006518104da0
CREATED:20260423T171751Z
DESCRIPTION:Detect & Describe: Deep learning of bank stress in the news
LAST-MODIFIED:20260423T171751Z
LOCATION:
SEQUENCE:0
STATUS:CONFIRMED
SUMMARY:Peter Sarlin, Hanken School of Economics and RiskLab Finland
TRANSP:OPAQUE
END:VEVENT
END:VCALENDAR
