BEGIN:VCALENDAR
PRODID:-//Riksbanken//riksbanken.se//SV
VERSION:2.0
BEGIN:VEVENT
DTSTART:20160127T120000Z
DTSTAMP:20260423T171705Z
UID:380afa9a1d2245c38d017cfb8e203cdb
CREATED:20260423T171705Z
DESCRIPTION:Leverage, the debt service burden, and the natural interest rate
LAST-MODIFIED:20260423T171705Z
LOCATION:
SEQUENCE:0
STATUS:CONFIRMED
SUMMARY:Mikael Juselius, Bank of Finland
TRANSP:OPAQUE
END:VEVENT
END:VCALENDAR
