BEGIN:VCALENDAR
PRODID:-//Riksbanken//riksbanken.se//SV
VERSION:2.0
BEGIN:VEVENT
DTSTART:20160202T120000Z
DTSTAMP:20260423T104645Z
UID:b10ffcf6a6e8450e90acd4ba48e9a17e
CREATED:20260423T104645Z
DESCRIPTION:Frictions in DSGE Models: Revisiting New Keynesian vs New Classical Results
LAST-MODIFIED:20260423T104645Z
LOCATION:
SEQUENCE:0
STATUS:CONFIRMED
SUMMARY:Eran Yashiv, Tel Aviv University
TRANSP:OPAQUE
END:VEVENT
END:VCALENDAR
