BEGIN:VCALENDAR
PRODID:-//Riksbanken//riksbanken.se//SV
VERSION:2.0
BEGIN:VEVENT
DTSTART:20160209T120000Z
DTSTAMP:20260423T104918Z
UID:bfb50534ae07430388b50e2002aef8d9
CREATED:20260423T104918Z
DESCRIPTION:Monetary policy and long-term interest rates
LAST-MODIFIED:20260423T104918Z
LOCATION:
SEQUENCE:0
STATUS:CONFIRMED
SUMMARY:Oreste Tristani, ECB
TRANSP:OPAQUE
END:VEVENT
END:VCALENDAR
