BEGIN:VCALENDAR
PRODID:-//Riksbanken//riksbanken.se//SV
VERSION:2.0
BEGIN:VEVENT
DTSTART:20160216T120000Z
DTSTAMP:20260423T104731Z
UID:18ce6277602e472eb452edcff6c34f8f
CREATED:20260423T104731Z
DESCRIPTION:Consumption and House Prices in the Great Recession: Model Meets Evidence
LAST-MODIFIED:20260423T104731Z
LOCATION:
SEQUENCE:0
STATUS:CONFIRMED
SUMMARY:Kurt Mitman, IIES
TRANSP:OPAQUE
END:VEVENT
END:VCALENDAR
