BEGIN:VCALENDAR
PRODID:-//Riksbanken//riksbanken.se//SV
VERSION:2.0
BEGIN:VEVENT
DTSTART:20160223T120000Z
DTSTAMP:20260423T104809Z
UID:82bed99ad94e4ae18d91b17b74f2a480
CREATED:20260423T104809Z
DESCRIPTION:Household Debt and Spending During theFinancial Crisis:Evidence from Danish Micro Data
LAST-MODIFIED:20260423T104809Z
LOCATION:
SEQUENCE:0
STATUS:CONFIRMED
SUMMARY:Asger Andersen, University of Copenhagen
TRANSP:OPAQUE
END:VEVENT
END:VCALENDAR
