BEGIN:VCALENDAR
PRODID:-//Riksbanken//riksbanken.se//SV
VERSION:2.0
BEGIN:VEVENT
DTSTART:20170308T120000Z
DTSTAMP:20260423T212651Z
UID:a63f9afb72a84c13ae0557ea8f7af2f7
CREATED:20260423T212651Z
DESCRIPTION:What Broker Charges Reveal About Credit Risk
LAST-MODIFIED:20260423T212651Z
LOCATION:
SEQUENCE:0
STATUS:CONFIRMED
SUMMARY:Patrik Sandås, University of Virginia och SIFR
TRANSP:OPAQUE
END:VEVENT
END:VCALENDAR
