BEGIN:VCALENDAR
PRODID:-//Riksbanken//riksbanken.se//SV
VERSION:2.0
BEGIN:VEVENT
DTSTART:20160322T120000Z
DTSTAMP:20260423T212716Z
UID:7c779ef9d10b441b8a6e9619ce6b1b90
CREATED:20260423T212716Z
DESCRIPTION:Doves for the Rich, Hawks for the Poor? Distributional Consequences of Monetary Policy
LAST-MODIFIED:20260423T212716Z
LOCATION:
SEQUENCE:0
STATUS:CONFIRMED
SUMMARY:Keith Kuester, University of Bonn
TRANSP:OPAQUE
END:VEVENT
END:VCALENDAR
