BEGIN:VCALENDAR
PRODID:-//Riksbanken//riksbanken.se//SV
VERSION:2.0
BEGIN:VEVENT
DTSTART:20160331T110000Z
DTSTAMP:20260423T212650Z
UID:641a4c6276eb469bb8acf0fc28557323
CREATED:20260423T212650Z
DESCRIPTION:A Theory of Repurchase Agreements, Collateral Re-use, and Repo Intermediation
LAST-MODIFIED:20260423T212650Z
LOCATION:
SEQUENCE:0
STATUS:CONFIRMED
SUMMARY:Piero Gottardi, EUI
TRANSP:OPAQUE
END:VEVENT
END:VCALENDAR
